BEGIN:VCALENDAR
VERSION:2.0
PRODID:-//La Bodega de los Reyes - ECPv6.15.17.1//NONSGML v1.0//EN
CALSCALE:GREGORIAN
METHOD:PUBLISH
X-WR-CALNAME:La Bodega de los Reyes
X-ORIGINAL-URL:https://labodegadelosreyes.com
X-WR-CALDESC:Eventos para La Bodega de los Reyes
REFRESH-INTERVAL;VALUE=DURATION:PT1H
X-Robots-Tag:noindex
X-PUBLISHED-TTL:PT1H
BEGIN:VTIMEZONE
TZID:UTC
BEGIN:STANDARD
TZOFFSETFROM:+0000
TZOFFSETTO:+0000
TZNAME:UTC
DTSTART:20220101T000000
END:STANDARD
END:VTIMEZONE
BEGIN:VEVENT
DTSTART;TZID=UTC:20230315T200000
DTEND;TZID=UTC:20230315T220000
DTSTAMP:20260421T132852
CREATED:20221221T063806Z
LAST-MODIFIED:20221221T063806Z
UID:7091-1678910400-1678917600@labodegadelosreyes.com
SUMMARY:Día del Padre
DESCRIPTION:[vc_row][vc_column][vc_column_text] \nEl viñedo\, el padre de todos nuestros vinos\n5 vinos + 5 pinchos \nMiércoles 15 de marzo – 20.00 horas \nJueves 16 de marzo – 20.00 horas \nViernes 17 de marzo – 18.00 horas y 20.00 horas \nSábado 18 de marzo – 13.30 horas\, 18.00 horas y 20.00 horas \n[/vc_column_text][vc_btn title=»Comprar Sesión de Cata» shape=»square» color=»black» size=»lg» align=»center» i_icon_fontawesome=»fas fa-shopping-cart» button_block=»true» add_icon=»true» link=»url:https%3A%2F%2Flabodegadelosreyes.com%2Fproducto%2Fcata-de-vino-gourmet%2F|title:Cata%20de%20Vino%20Gourmet»][/vc_column][/vc_row][vc_row][vc_column][vc_column_text]Sesiones del día del Padre!!! \nPara aquellos que hoy disfrutáis de su compañía. \nPara aquellos que sabéis que os cuidan desde lejos. \nPara los que ejercéis como tal todos los días del año. \nPara los que lo seréis dentro de poco. \nPara los que sentís que en su momento lo seréis. \nPara todos los hombres del mundo que cuidáis\, queréis y respetáis a los demás como lo haría cualquier padre aunque no lo seáis. \nPara todos ellos… mi homenaje en vuestro día! \nTriste. alegre\, compartido\, añorado\, ansiado… sea como sea este día… conviértelo en maravilloso descorchando con nosotros\, emociones y sonrisas.[/vc_column_text][vc_btn title=»Comprar Sesión de Cata» shape=»square» color=»black» size=»lg» align=»center» i_icon_fontawesome=»fas fa-shopping-cart» button_block=»true» add_icon=»true» link=»url:https%3A%2F%2Flabodegadelosreyes.com%2Fproducto%2Fcata-de-vino-gourmet%2F|title:Cata%20de%20Vino%20Gourmet»][/vc_column][/vc_row]
URL:https://labodegadelosreyes.com/evento/dia-del-padre/
LOCATION:La Bodega de los Reyes\, Calle de los Reyes\, 6\, Madrid\, Madrid\, 28015\, España
ATTACH;FMTTYPE=image/png:https://labodegadelosreyes.com/wp-content/uploads/2022/12/dia-del-padre.png
ORGANIZER;CN="La Bodega de los Reyes":MAILTO:info@labodegadelosreyes.com
END:VEVENT
END:VCALENDAR