BEGIN:VCALENDAR
VERSION:2.0
PRODID:-//La Bodega de los Reyes - ECPv6.15.17.1//NONSGML v1.0//EN
CALSCALE:GREGORIAN
METHOD:PUBLISH
X-ORIGINAL-URL:https://labodegadelosreyes.com
X-WR-CALDESC:Eventos para La Bodega de los Reyes
REFRESH-INTERVAL;VALUE=DURATION:PT1H
X-Robots-Tag:noindex
X-PUBLISHED-TTL:PT1H
BEGIN:VTIMEZONE
TZID:UTC
BEGIN:STANDARD
TZOFFSETFROM:+0000
TZOFFSETTO:+0000
TZNAME:UTC
DTSTART:20220101T000000
END:STANDARD
END:VTIMEZONE
BEGIN:VEVENT
DTSTART;TZID=UTC:20230419T200000
DTEND;TZID=UTC:20230419T220000
DTSTAMP:20260421T105438
CREATED:20230113T100111Z
LAST-MODIFIED:20230113T100111Z
UID:7413-1681934400-1681941600@labodegadelosreyes.com
SUMMARY:Vermut y Vino
DESCRIPTION:[vc_row][vc_column][vc_column_text] \n3 vermut + 2 vinos + maridaje de mercado \nMiércoles 19 de abril – 20.00 horas \nJueves 20 de abril – 20.00 horas \nViernes 21 de abril – 18.00 horas y 20.00 horas \nSábado 22 de abril – 13.30 horas\, 18.00 horas y 20.00 horas \n[/vc_column_text][vc_btn title=»Comprar Sesión de Cata» shape=»square» color=»black» size=»lg» align=»center» i_icon_fontawesome=»fas fa-shopping-cart» button_block=»true» add_icon=»true» link=»url:https%3A%2F%2Flabodegadelosreyes.com%2Fproducto%2Fcata-de-vino-gourmet%2F|title:Cata%20de%20Vino%20Gourmet»][/vc_column][/vc_row][vc_row][vc_column][vc_column_text]Llega el momento del vermut!!! \nDe quedar con los amigos\, de abrir el apetito. \nLlega el momento de descubrir nuevas formas de tomarlo\, de conocer su origen\, de caminar por su historia. \nLlega el momento de sentir su dulce amargor y de acompañarlos con fantásticos maridajes. \nVinos macerados y vinos sin macerar\, maridados para potenciar su estructura con 5 pinchos diferentes\, a fin de cuentas\, viviremos el vino de forma diferente de nuevo en @labodegadelosreyes.[/vc_column_text][vc_btn title=»Comprar Sesión de Cata» shape=»square» color=»black» size=»lg» align=»center» i_icon_fontawesome=»fas fa-shopping-cart» button_block=»true» add_icon=»true» link=»url:https%3A%2F%2Flabodegadelosreyes.com%2Fproducto%2Fcata-de-vino-gourmet%2F|title:Cata%20de%20Vino%20Gourmet»][/vc_column][/vc_row]
URL:https://labodegadelosreyes.com/evento/vermut-y-vino-4/
LOCATION:La Bodega de los Reyes\, Calle de los Reyes\, 6\, Madrid\, Madrid\, 28015\, España
ATTACH;FMTTYPE=image/png:https://labodegadelosreyes.com/wp-content/uploads/2023/01/vermut.png
ORGANIZER;CN="La Bodega de los Reyes":MAILTO:info@labodegadelosreyes.com
END:VEVENT
END:VCALENDAR