BEGIN:VCALENDAR
VERSION:2.0
PRODID:-//La Bodega de los Reyes - ECPv6.15.17.1//NONSGML v1.0//EN
CALSCALE:GREGORIAN
METHOD:PUBLISH
X-ORIGINAL-URL:https://labodegadelosreyes.com
X-WR-CALDESC:Eventos para La Bodega de los Reyes
REFRESH-INTERVAL;VALUE=DURATION:PT1H
X-Robots-Tag:noindex
X-PUBLISHED-TTL:PT1H
BEGIN:VTIMEZONE
TZID:UTC
BEGIN:STANDARD
TZOFFSETFROM:+0000
TZOFFSETTO:+0000
TZNAME:UTC
DTSTART:20220101T000000
END:STANDARD
END:VTIMEZONE
BEGIN:VEVENT
DTSTART;TZID=UTC:20230503T200000
DTEND;TZID=UTC:20230503T220000
DTSTAMP:20260421T122110
CREATED:20230323T152448Z
LAST-MODIFIED:20230323T153617Z
UID:7732-1683144000-1683151200@labodegadelosreyes.com
SUMMARY:Esencia del Bierzo
DESCRIPTION:[vc_row][vc_column][vc_column_text] \n5 vinos + 5 pinchos \nMiércoles 3 de mayo – 20.00 horas \nJueves 4 de mayo – 20.00 horas \nViernes 5 de mayo – 18.00 horas y 20.00 horas \nSábado 6 de mayo – 13.30 horas\, 18.00 horas y 20.00 horas \n[/vc_column_text][vc_btn title=»Comprar Sesión de Cata» shape=»square» color=»black» size=»lg» align=»center» i_icon_fontawesome=»fas fa-shopping-cart» button_block=»true» add_icon=»true» link=»url:https%3A%2F%2Flabodegadelosreyes.com%2Fproducto%2Fcata-de-vino-gourmet%2F|title:Cata%20de%20Vino%20Gourmet»][/vc_column][/vc_row][vc_row][vc_column][vc_column_text]Nunca son pocos los amigos cuando se trata de compartir mesa y vinos.\nEn esta ocasión\, hemos invitado a un grupo de amigas con las que sin duda disfrutaremos de lo lindo. \nNo queremos dar muchas pistas pero\, usan perfumes difíciles de olvidar\, tienen tanta clase\, que sus combinaciones de colores en sus atuendos marcan la diferencia y cuando escuchas sus historias\, sus experiencias\, cuando sus secretos se destapan sobre la mesa\, ten por seguro que no podrás olvidarlas fácilmente. \nHablamos de variedades tan amigables como las que nacen y se crían en el Bierzo. \nEn esas tierras llenas de mineralidad y de asombrosa buena gente\, esas tierras donde los productos son sinónimo de calidad \, en esa tierra que nunca te deja indiferente. \nQuieres conocer el Bierzo a través de sus viñedos??? \nLo tienes fácil\, sólo reserva una plaza en nuestra sala de catas y te llevaremos con la imaginación hasta las cercanías del monte Teleno o de las fantásticas Médulas\, a sus miradores y a sus laderas empinadas llenas de pizarra\, eso sí\, con las copas bien llenas y disfrutando desde nuestra sala.[/vc_column_text][vc_btn title=»Comprar Sesión de Cata» shape=»square» color=»black» size=»lg» align=»center» i_icon_fontawesome=»fas fa-shopping-cart» button_block=»true» add_icon=»true» link=»url:https%3A%2F%2Flabodegadelosreyes.com%2Fproducto%2Fcata-de-vino-gourmet%2F|title:Cata%20de%20Vino%20Gourmet»][/vc_column][/vc_row]
URL:https://labodegadelosreyes.com/evento/esencia-del-bierzo/
LOCATION:La Bodega de los Reyes\, Calle de los Reyes\, 6\, Madrid\, Madrid\, 28015\, España
ATTACH;FMTTYPE=image/jpeg:https://labodegadelosreyes.com/wp-content/uploads/2023/03/Luzdivina-Amigo-Bierzo.jpg
ORGANIZER;CN="La Bodega de los Reyes":MAILTO:info@labodegadelosreyes.com
END:VEVENT
END:VCALENDAR