BEGIN:VCALENDAR
VERSION:2.0
PRODID:-//La Bodega de los Reyes - ECPv6.15.17.1//NONSGML v1.0//EN
CALSCALE:GREGORIAN
METHOD:PUBLISH
X-WR-CALNAME:La Bodega de los Reyes
X-ORIGINAL-URL:https://labodegadelosreyes.com
X-WR-CALDESC:Eventos para La Bodega de los Reyes
REFRESH-INTERVAL;VALUE=DURATION:PT1H
X-Robots-Tag:noindex
X-PUBLISHED-TTL:PT1H
BEGIN:VTIMEZONE
TZID:UTC
BEGIN:STANDARD
TZOFFSETFROM:+0000
TZOFFSETTO:+0000
TZNAME:UTC
DTSTART:20220101T000000
END:STANDARD
END:VTIMEZONE
BEGIN:VEVENT
DTSTART;TZID=UTC:20230510T200000
DTEND;TZID=UTC:20230510T220000
DTSTAMP:20260419T200328
CREATED:20230323T152954Z
LAST-MODIFIED:20230323T153708Z
UID:7736-1683748800-1683756000@labodegadelosreyes.com
SUMMARY:La Rioja
DESCRIPTION:[vc_row][vc_column][vc_column_text] \nDe la tierra a la copa\n5 vinos + 5 pinchos \nMiércoles 10 de mayo – 20.00 horas \nJueves 11 de mayo – 20.00 horas \nViernes 12 de mayo – 18.00 horas y 20.00 horas \nSábado 13 de mayo – 13.30 horas\, 18.00 horas y 20.00 horas \n[/vc_column_text][vc_btn title=»Comprar Sesión de Cata» shape=»square» color=»black» size=»lg» align=»center» i_icon_fontawesome=»fas fa-shopping-cart» button_block=»true» add_icon=»true» link=»url:https%3A%2F%2Flabodegadelosreyes.com%2Fproducto%2Fcata-de-vino-gourmet%2F|title:Cata%20de%20Vino%20Gourmet»][/vc_column][/vc_row][vc_row][vc_column][vc_column_text]!!! Hablar de vino\, es hablar de la Rioja !!! \n¿Quién de nosotros no ha presumido de esta maravillosa tierra de vinos con compañeros\, amigos o familiares alguna vez ? \n¿Quién no ha regalado un Rioja cual joya de la corona ? \n¿Quién no lo ha presentado y compartido orgulloso en alguna de sus veladas? \nLa respuesta es que todos\, en alguna ocasión hemos reconocido la gloria que esta ubicación\, suelo\, clima y variedades trabajadas\, otorgan a los vinos que aquí se producen. \nQueremos hacerle un pequeño homenaje\, nos gustaría trasladarnos hasta su corazón y vivir una experiencia sublime. \nVinos riojanos\, tapas y pinchos típicos de la región\, presentación audiovisual de sus campos\, características y técnicas de elaboración… \nTodo por 25 €\, en un buen ambiente y en pleno centro de Madrid. \nNo te puedes perder\, uno de los temáticos más increíbles del año en nuestra sala de catas[/vc_column_text][vc_btn title=»Comprar Sesión de Cata» shape=»square» color=»black» size=»lg» align=»center» i_icon_fontawesome=»fas fa-shopping-cart» button_block=»true» add_icon=»true» link=»url:https%3A%2F%2Flabodegadelosreyes.com%2Fproducto%2Fcata-de-vino-gourmet%2F|title:Cata%20de%20Vino%20Gourmet»][/vc_column][/vc_row]
URL:https://labodegadelosreyes.com/evento/la-rioja-2/
LOCATION:La Bodega de los Reyes\, Calle de los Reyes\, 6\, Madrid\, Madrid\, 28015\, España
ATTACH;FMTTYPE=image/jpeg:https://labodegadelosreyes.com/wp-content/uploads/2023/03/Rioja-Sesion.jpg
ORGANIZER;CN="La Bodega de los Reyes":MAILTO:info@labodegadelosreyes.com
END:VEVENT
END:VCALENDAR