BEGIN:VCALENDAR
VERSION:2.0
PRODID:-//La Bodega de los Reyes - ECPv6.15.17.1//NONSGML v1.0//EN
CALSCALE:GREGORIAN
METHOD:PUBLISH
X-WR-CALNAME:La Bodega de los Reyes
X-ORIGINAL-URL:https://labodegadelosreyes.com
X-WR-CALDESC:Eventos para La Bodega de los Reyes
REFRESH-INTERVAL;VALUE=DURATION:PT1H
X-Robots-Tag:noindex
X-PUBLISHED-TTL:PT1H
BEGIN:VTIMEZONE
TZID:UTC
BEGIN:STANDARD
TZOFFSETFROM:+0000
TZOFFSETTO:+0000
TZNAME:UTC
DTSTART:20220101T000000
END:STANDARD
END:VTIMEZONE
BEGIN:VEVENT
DTSTART;TZID=UTC:20230524T200000
DTEND;TZID=UTC:20230524T220000
DTSTAMP:20260421T100748
CREATED:20230323T154218Z
LAST-MODIFIED:20230323T154218Z
UID:7744-1684958400-1684965600@labodegadelosreyes.com
SUMMARY:Quesos y Vinos del Mundo
DESCRIPTION:[vc_row][vc_column][vc_column_text] \n2 vinos blancos + 3 vinos tintos + Rueda de quesos \nMiércoles 24 de mayo – 20.00 horas \nJueves 25 de mayo – 20.00 horas \nViernes 26 de mayo – 18.00 horas y 20.00 horas \nSábado 27 de mayo – 13.30 horas\, 18.00 horas y 20.00 horas \n[/vc_column_text][vc_btn title=»Comprar Sesión de Cata» shape=»square» color=»black» size=»lg» align=»center» i_icon_fontawesome=»fas fa-shopping-cart» button_block=»true» add_icon=»true» link=»url:https%3A%2F%2Flabodegadelosreyes.com%2Fproducto%2Fcata-de-vino-gourmet%2F|title:Cata%20de%20Vino%20Gourmet»][/vc_column][/vc_row][vc_row][vc_column][vc_column_text]¡¡¡ Tranquilo\, que no te la queremos dar con queso !!! \nEn realidad queremos demostrarte que uno de los maridajes más especiales y suculentos hasta el momento conocidos\, es una surtida tabla de quesos\, con unos buenos vinos blancos o tintos. \nPero\, nosotros queremos ir más allá. \nNo nos conformamos con una surtida tabla de quesos \, vamos a deleitarte con una magnífica rueda de piezas variadas\, artesanas y mundialmente conocidas. \nNo nos conformamos con unos buenos vinos blancos y tintos \, vamos a sorprenderte con una sesión de cata comparativa\, de sutiles vinos blancos y majestuosos vinos tintos. \nSi no hemos provocado que tu subconsciente tenga la necesidad de venir a vivir esta experiencia\, aún tenemos más\, todo esto por sólo 25 euros. \nSeguro que ahora sí\, ya estás convencido para reservar tu plaza. \nElige la sesión que mejor cuadre con tu agenda y ven a vivir el vino de forma diferente con la Bodega de los Reyes!!![/vc_column_text][vc_btn title=»Comprar Sesión de Cata» shape=»square» color=»black» size=»lg» align=»center» i_icon_fontawesome=»fas fa-shopping-cart» button_block=»true» add_icon=»true» link=»url:https%3A%2F%2Flabodegadelosreyes.com%2Fproducto%2Fcata-de-vino-gourmet%2F|title:Cata%20de%20Vino%20Gourmet»][/vc_column][/vc_row]
URL:https://labodegadelosreyes.com/evento/quesos-y-vinos-del-mundo/
LOCATION:La Bodega de los Reyes\, Calle de los Reyes\, 6\, Madrid\, Madrid\, 28015\, España
ATTACH;FMTTYPE=image/jpeg:https://labodegadelosreyes.com/wp-content/uploads/2023/03/quesos-y-panes-del-mundo.jpg
ORGANIZER;CN="La Bodega de los Reyes":MAILTO:info@labodegadelosreyes.com
END:VEVENT
END:VCALENDAR