BEGIN:VCALENDAR
VERSION:2.0
PRODID:-//La Bodega de los Reyes - ECPv6.15.17.1//NONSGML v1.0//EN
CALSCALE:GREGORIAN
METHOD:PUBLISH
X-ORIGINAL-URL:https://labodegadelosreyes.com
X-WR-CALDESC:Eventos para La Bodega de los Reyes
REFRESH-INTERVAL;VALUE=DURATION:PT1H
X-Robots-Tag:noindex
X-PUBLISHED-TTL:PT1H
BEGIN:VTIMEZONE
TZID:UTC
BEGIN:STANDARD
TZOFFSETFROM:+0000
TZOFFSETTO:+0000
TZNAME:UTC
DTSTART:20220101T000000
END:STANDARD
END:VTIMEZONE
BEGIN:VEVENT
DTSTART;TZID=UTC:20230705T200000
DTEND;TZID=UTC:20230705T220000
DTSTAMP:20260419T153438
CREATED:20230520T054731Z
LAST-MODIFIED:20230621T155354Z
UID:7921-1688587200-1688594400@labodegadelosreyes.com
SUMMARY:Damas Blancas
DESCRIPTION:[vc_row][vc_column][vc_column_text] \n3 vinos blancos + 1 vino rosado + 1 vino tinto + Pinchos \nMiércoles 5 de julio – 20.00 horas \nJueves 6 de julio – 13.30 horas\, 18.00 horas y 20.00 horas \nViernes 7 de julio – 13.30 horas\, 18.00 horas y 20.00 horas \nSábado 7 de julio – 13.30 horas\, 18.00 horas y 20.00 horas \n[/vc_column_text][vc_btn title=»Comprar Sesión de Cata» shape=»square» color=»black» size=»lg» align=»center» i_icon_fontawesome=»fas fa-shopping-cart» button_block=»true» add_icon=»true» link=»url:https%3A%2F%2Flabodegadelosreyes.com%2Fproducto%2Fcata-de-vino-gourmet%2F|title:Cata%20de%20Vino%20Gourmet»][/vc_column][/vc_row][vc_row][vc_column][vc_column_text]Una noche blanca\, ¿qué es? \nPara la Bodega de los Reyes es disfrutar con vosotros de unos maravillosos vinos blancos españoles y para que nos se nos pongan celosos también acompañarlos de un vino más rosado y otro tinto. \nDe diferentes regiones\, con aromas distintos y sabores que nos lleven a esos campos tan increíbles que tenemos en nuestra geografía. \nEs degustarlos poco a poco\, comentando\, compartiendo y sonriendo\, sabiendo que sin duda\, es lo mejor que podríamos estar haciendo en ese momento. \nAcércate a disfrutar de una velada única y diferente y forma parte de una gran Noche Blanca.[/vc_column_text][vc_btn title=»Comprar Sesión de Cata» shape=»square» color=»black» size=»lg» align=»center» i_icon_fontawesome=»fas fa-shopping-cart» button_block=»true» add_icon=»true» link=»url:https%3A%2F%2Flabodegadelosreyes.com%2Fproducto%2Fcata-de-vino-gourmet%2F|title:Cata%20de%20Vino%20Gourmet»][/vc_column][/vc_row]
URL:https://labodegadelosreyes.com/evento/damas-blancas/
LOCATION:La Bodega de los Reyes\, Calle de los Reyes\, 6\, Madrid\, Madrid\, 28015\, España
ATTACH;FMTTYPE=image/png:https://labodegadelosreyes.com/wp-content/uploads/2023/05/las-damas-blancas.png
ORGANIZER;CN="La Bodega de los Reyes":MAILTO:info@labodegadelosreyes.com
END:VEVENT
END:VCALENDAR