BEGIN:VCALENDAR
VERSION:2.0
PRODID:-//La Bodega de los Reyes - ECPv6.15.17.1//NONSGML v1.0//EN
CALSCALE:GREGORIAN
METHOD:PUBLISH
X-WR-CALNAME:La Bodega de los Reyes
X-ORIGINAL-URL:https://labodegadelosreyes.com
X-WR-CALDESC:Eventos para La Bodega de los Reyes
REFRESH-INTERVAL;VALUE=DURATION:PT1H
X-Robots-Tag:noindex
X-PUBLISHED-TTL:PT1H
BEGIN:VTIMEZONE
TZID:UTC
BEGIN:STANDARD
TZOFFSETFROM:+0000
TZOFFSETTO:+0000
TZNAME:UTC
DTSTART:20220101T000000
END:STANDARD
END:VTIMEZONE
BEGIN:VEVENT
DTSTART;TZID=UTC:20230719T200000
DTEND;TZID=UTC:20230719T220000
DTSTAMP:20260419T153240
CREATED:20230520T055623Z
LAST-MODIFIED:20230520T055624Z
UID:7927-1689796800-1689804000@labodegadelosreyes.com
SUMMARY:Cata Turística del Atlántico
DESCRIPTION:[vc_row][vc_column][vc_column_text] \n5 Vinos + 5 Pinchos \nMiércoles 19 de julio – 20.00 horas \nJueves 20 de julio – 20.00 horas \nViernes 21 de julio – 18.00 horas y 20.00 horas \nSábado 22 de julio – 13.30 horas\, 18.00 horas y 20.00 horas \n[/vc_column_text][vc_btn title=»Comprar Sesión de Cata» shape=»square» color=»black» size=»lg» align=»center» i_icon_fontawesome=»fas fa-shopping-cart» button_block=»true» add_icon=»true» link=»url:https%3A%2F%2Flabodegadelosreyes.com%2Fproducto%2Fcata-de-vino-gourmet%2F|title:Cata%20de%20Vino%20Gourmet»][/vc_column][/vc_row][vc_row][vc_column][vc_column_text]Temperaturas moderadas\, muy poco sol\, mucha lluvia\, cercanía la costa\, recortes elevados de sus montañas… son algunos de los factores que influyen en los vinos del norte de España. \nVinos frescos\, blancos\, rosados y tintos que nos conquistan a través de sus aromas. Elaboraciones muy cuidadas\, de tierras mimadas con el esfuerzo que conlleva el hacer las cosas bien. \nMinifundios parcelarios\, con alturas muy diversas y el mar como referencia\, nos ofrecen en la copa\, sensaciones preciosas que queremos compartir con vosotros. \nAtrévete a vivir el vino de forma diferente con una sesión de corte atlántico maridada que te hará disfrutar desde el momento de tu entrada. Durante toda esta semana\, volveremos a hablar de vino. \nVen a interactuar con nosotros \, a viajar entre viñedos\, botellas y bodegas de España\, sin salir de nuestra sala de catas.[/vc_column_text][vc_btn title=»Comprar Sesión de Cata» shape=»square» color=»black» size=»lg» align=»center» i_icon_fontawesome=»fas fa-shopping-cart» button_block=»true» add_icon=»true» link=»url:https%3A%2F%2Flabodegadelosreyes.com%2Fproducto%2Fcata-de-vino-gourmet%2F|title:Cata%20de%20Vino%20Gourmet»][/vc_column][/vc_row]
URL:https://labodegadelosreyes.com/evento/cata-turistica-del-atlantico/
LOCATION:La Bodega de los Reyes\, Calle de los Reyes\, 6\, Madrid\, Madrid\, 28015\, España
ATTACH;FMTTYPE=image/png:https://labodegadelosreyes.com/wp-content/uploads/2023/05/cata-turistica-de-atlantico.png
ORGANIZER;CN="La Bodega de los Reyes":MAILTO:info@labodegadelosreyes.com
END:VEVENT
END:VCALENDAR