BEGIN:VCALENDAR
VERSION:2.0
PRODID:-//La Bodega de los Reyes - ECPv6.15.17.1//NONSGML v1.0//EN
CALSCALE:GREGORIAN
METHOD:PUBLISH
X-WR-CALNAME:La Bodega de los Reyes
X-ORIGINAL-URL:https://labodegadelosreyes.com
X-WR-CALDESC:Eventos para La Bodega de los Reyes
REFRESH-INTERVAL;VALUE=DURATION:PT1H
X-Robots-Tag:noindex
X-PUBLISHED-TTL:PT1H
BEGIN:VTIMEZONE
TZID:UTC
BEGIN:STANDARD
TZOFFSETFROM:+0000
TZOFFSETTO:+0000
TZNAME:UTC
DTSTART:20220101T000000
END:STANDARD
END:VTIMEZONE
BEGIN:VEVENT
DTSTART;TZID=UTC:20230726T200000
DTEND;TZID=UTC:20230726T220000
DTSTAMP:20260419T153239
CREATED:20230520T055946Z
LAST-MODIFIED:20230520T055946Z
UID:7930-1690401600-1690408800@labodegadelosreyes.com
SUMMARY:Cata Turística del Mediterráneo
DESCRIPTION:[vc_row][vc_column][vc_column_text] \n5 Vinos + 5 Pinchos \nMiércoles 26 de julio – 20.00 horas \nJueves 27 de julio – 20.00 horas \nViernes 28 de julio – 18.00 horas y 20.00 horas \nSábado 29 de julio – 13.30 horas\, 18.00 horas y 20.00 horas \n[/vc_column_text][vc_btn title=»Comprar Sesión de Cata» shape=»square» color=»black» size=»lg» align=»center» i_icon_fontawesome=»fas fa-shopping-cart» button_block=»true» add_icon=»true» link=»url:https%3A%2F%2Flabodegadelosreyes.com%2Fproducto%2Fcata-de-vino-gourmet%2F|title:Cata%20de%20Vino%20Gourmet»][/vc_column][/vc_row][vc_row][vc_column][vc_column_text]Antes de comenzar nuestras sesiones especiales de Navidad\, queremos cerrar el año con la presentación exclusiva de una Bodega que pone nombre propio a muchas de las mejores elaboraciones del mercado. \nBodega Palacio de Villachica\, pondrá la sobriedad\, elegancia y finura de los vinos bien elaborados\, aunque no hablemos sólo de una misma DO. \nY es que Palacio de Villachica\, es una bodega que elige lo mejor de cada tierra\, de cada altura\, de cada clima y lo fermenta y cría de forma personal y diferente\, para que sólo lo autóctono y diferente\, nos sorprenda a través de sus copas. \nUn lujo para nuestro paladar\, sensaciones convertidas en sentimientos\, preferencias servidas y catadas a sorbos cortos\, donde el prestigio y la calidez\, se unen una vez más\, para demostrar que el mundo del vino\, está vino en nuestra preciosa España.[/vc_column_text][vc_btn title=»Comprar Sesión de Cata» shape=»square» color=»black» size=»lg» align=»center» i_icon_fontawesome=»fas fa-shopping-cart» button_block=»true» add_icon=»true» link=»url:https%3A%2F%2Flabodegadelosreyes.com%2Fproducto%2Fcata-de-vino-gourmet%2F|title:Cata%20de%20Vino%20Gourmet»][/vc_column][/vc_row]
URL:https://labodegadelosreyes.com/evento/cata-turistica-del-mediterraneo/
LOCATION:La Bodega de los Reyes\, Calle de los Reyes\, 6\, Madrid\, Madrid\, 28015\, España
ATTACH;FMTTYPE=image/png:https://labodegadelosreyes.com/wp-content/uploads/2023/05/cata-turisticas-de-mediterraneo.png
ORGANIZER;CN="La Bodega de los Reyes":MAILTO:info@labodegadelosreyes.com
END:VEVENT
END:VCALENDAR