BEGIN:VCALENDAR
VERSION:2.0
PRODID:-//La Bodega de los Reyes - ECPv6.15.17.1//NONSGML v1.0//EN
CALSCALE:GREGORIAN
METHOD:PUBLISH
X-ORIGINAL-URL:https://labodegadelosreyes.com
X-WR-CALDESC:Eventos para La Bodega de los Reyes
REFRESH-INTERVAL;VALUE=DURATION:PT1H
X-Robots-Tag:noindex
X-PUBLISHED-TTL:PT1H
BEGIN:VTIMEZONE
TZID:UTC
BEGIN:STANDARD
TZOFFSETFROM:+0000
TZOFFSETTO:+0000
TZNAME:UTC
DTSTART:20250101T000000
END:STANDARD
END:VTIMEZONE
BEGIN:VEVENT
DTSTART;TZID=UTC:20260414T200000
DTEND;TZID=UTC:20260414T220000
DTSTAMP:20260421T105803
CREATED:20251013T064314Z
LAST-MODIFIED:20251013T064314Z
UID:13240-1776196800-1776204000@labodegadelosreyes.com
SUMMARY:Bodegas Habla
DESCRIPTION:[vc_row][vc_column][vc_column_text] \nDesde el martes 14 de abril hasta el sábado 18 de abril\n[/vc_column_text][vc_btn title=»Comprar Sesión de Cata» shape=»square» color=»black» size=»lg» align=»center» i_icon_fontawesome=»fas fa-shopping-cart» button_block=»true» add_icon=»true» link=»url:https%3A%2F%2Flabodegadelosreyes.com%2Fproducto%2Fcata-de-vino-gourmet%2F|title:Cata%20de%20Vino%20Gourmet»][vc_btn title=»Reservar Sesión de Cata» shape=»square» color=»black» size=»lg» align=»center» i_icon_fontawesome=»fas fa-shopping-cart» button_block=»true» add_icon=»true» link=»url:https%3A%2F%2Flabodegadelosreyes.com%2Freserva-catas%2F|title:Cata%20de%20Vino%20Gourmet»][/vc_column][/vc_row][vc_row][vc_column][vc_column_text] \nCata Especial — Bodegas Habla\nEl arte de hacer vino\, desde el corazón de Extremadura \nDesde Trujillo\, una de las joyas de Extremadura\, llegan los vinos de una bodega que ha revolucionado la forma de entender el vino: Bodegas Habla. \nNacida en 2008 como un proyecto ambicioso y visionario\, Habla se ha ganado un lugar entre las grandes gracias a su pasión\, innovación y elegancia. Hoy conquista mercados de todo el mundo —de EE.UU. a Dubái o Suiza— y lo hace con una filosofía clara: crear vinos únicos\, honestos y llenos de arte. \nSu respeto por la tierra se nota en cada copa. Cultivan con mimo variedades como Sauvignon Blanc o Cabernet Sauvignon\, trabajadas con cariño y sostenibilidad en los campos extremeños\, bañados por el Tajo y el Guadiana.\nLa sequía\, el sol y la mineralidad del suelo dan como resultado uvas intensas\, llenas de carácter\, que expresan la fuerza de su origen. \nEn esta cata te invitamos a descubrir sus secretos\, a dejarte sorprender por sus aromas\, por el diseño vanguardista de sus botellas y por esa elegancia minimalista que las hace inconfundibles.\nVinos que hablan sin necesidad de palabras. \nDisfrutaremos de una selección de vinos Habla maridados con pinchos en un ambiente único y mágico.\nDéjate llevar por su historia\, su sabor y su pasión\, descorchando el arte de Bodegas Habla junto a nosotros en La Bodega de los Reyes.[/vc_column_text][vc_btn title=»Comprar Sesión de Cata» shape=»square» color=»black» size=»lg» align=»center» i_icon_fontawesome=»fas fa-shopping-cart» button_block=»true» add_icon=»true» link=»url:https%3A%2F%2Flabodegadelosreyes.com%2Fproducto%2Fcata-de-vino-gourmet%2F|title:Cata%20de%20Vino%20Gourmet»][vc_btn title=»Reservar Sesión de Cata» shape=»square» color=»black» size=»lg» align=»center» i_icon_fontawesome=»fas fa-shopping-cart» button_block=»true» add_icon=»true» link=»url:https%3A%2F%2Flabodegadelosreyes.com%2Freserva-catas%2F|title:Cata%20de%20Vino%20Gourmet»][/vc_column][/vc_row]
URL:https://labodegadelosreyes.com/evento/bodegas-habla/
LOCATION:La Bodega de los Reyes\, Calle de los Reyes\, 6\, Madrid\, Madrid\, 28015\, España
ATTACH;FMTTYPE=image/jpeg:https://labodegadelosreyes.com/wp-content/uploads/2025/10/Bodegas-Habla-sesion-.jpg
ORGANIZER;CN="La Bodega de los Reyes":MAILTO:info@labodegadelosreyes.com
END:VEVENT
END:VCALENDAR