BEGIN:VCALENDAR
VERSION:2.0
PRODID:-//La Bodega de los Reyes - ECPv6.15.17.1//NONSGML v1.0//EN
CALSCALE:GREGORIAN
METHOD:PUBLISH
X-WR-CALNAME:La Bodega de los Reyes
X-ORIGINAL-URL:https://labodegadelosreyes.com
X-WR-CALDESC:Eventos para La Bodega de los Reyes
REFRESH-INTERVAL;VALUE=DURATION:PT1H
X-Robots-Tag:noindex
X-PUBLISHED-TTL:PT1H
BEGIN:VTIMEZONE
TZID:UTC
BEGIN:STANDARD
TZOFFSETFROM:+0000
TZOFFSETTO:+0000
TZNAME:UTC
DTSTART:20250101T000000
END:STANDARD
END:VTIMEZONE
BEGIN:VEVENT
DTSTART;TZID=UTC:20260602T200000
DTEND;TZID=UTC:20260602T220000
DTSTAMP:20260419T165752
CREATED:20260205T151907Z
LAST-MODIFIED:20260205T151907Z
UID:14363-1780430400-1780437600@labodegadelosreyes.com
SUMMARY:Rioja vs Ribera del Duero
DESCRIPTION:[vc_row][vc_column][vc_column_text] \nDesde el martes 2 de junio hasta el sábado 6 de junio\n[/vc_column_text][vc_btn title=»Comprar Sesión de Cata» shape=»square» color=»black» size=»lg» align=»center» i_icon_fontawesome=»fas fa-shopping-cart» button_block=»true» add_icon=»true» link=»url:https%3A%2F%2Flabodegadelosreyes.com%2Fproducto%2Fcata-de-vino-gourmet%2F|title:Cata%20de%20Vino%20Gourmet»][vc_btn title=»Reservar Sesión de Cata» shape=»square» color=»black» size=»lg» align=»center» i_icon_fontawesome=»fas fa-shopping-cart» button_block=»true» add_icon=»true» link=»url:https%3A%2F%2Flabodegadelosreyes.com%2Freserva-catas%2F|title:Cata%20de%20Vino%20Gourmet»][/vc_column][/vc_row][vc_row][vc_column][vc_column_text]Dos grandes\, un mismo placer \nSi te apasiona el vino\, prepárate para una experiencia donde dos de las\nDenominaciones de Origen más prestigiosas de España se verán las caras:\nRioja vs Ribera del Duero. \nUna rivalidad histórica que demuestra que no son enemigas\, sino complementarias\, capaces de ofrecer estilos únicos y emocionantes. \nDisfrutaremos de una cata guiada de 5 vinos maridados con 5 pinchos seleccionados para potenciar aromas y sabores. \nLos vinos serán de diferentes colores\, variedades de uva y formas de elaboración\, haciendo de la actividad una experiencia divertida\, didáctica y llena de contrastes. \nTema de la sesión: Rioja vs Ribera del Duero \nCompararemos estilos\, climas\, uvas y crianzas para descubrir qué las hace tan distintas… y tan fascinantes. \n¿Qué puedes esperar? \n\nSabores intensos y comparaciones sorprendentes\nCuriosidades sobre ambas Denominaciones de Origen\nHistorias y anécdotas de bodegas y viñedos\nAprender a identificar diferencias y afinidades en cada copa\nEl vino siempre como protagonista\n\n[/vc_column_text][vc_btn title=»Comprar Sesión de Cata» shape=»square» color=»black» size=»lg» align=»center» i_icon_fontawesome=»fas fa-shopping-cart» button_block=»true» add_icon=»true» link=»url:https%3A%2F%2Flabodegadelosreyes.com%2Fproducto%2Fcata-de-vino-gourmet%2F|title:Cata%20de%20Vino%20Gourmet»][vc_btn title=»Reservar Sesión de Cata» shape=»square» color=»black» size=»lg» align=»center» i_icon_fontawesome=»fas fa-shopping-cart» button_block=»true» add_icon=»true» link=»url:https%3A%2F%2Flabodegadelosreyes.com%2Freserva-catas%2F|title:Cata%20de%20Vino%20Gourmet»][/vc_column][/vc_row]
URL:https://labodegadelosreyes.com/evento/rioja-vs-ribera-del-duero-2/
LOCATION:La Bodega de los Reyes\, Calle de los Reyes\, 6\, Madrid\, Madrid\, 28015\, España
ATTACH;FMTTYPE=image/jpeg:https://labodegadelosreyes.com/wp-content/uploads/2026/02/sesion-ribera-del-duero-vs-rioja-2.jpg
ORGANIZER;CN="La Bodega de los Reyes":MAILTO:info@labodegadelosreyes.com
END:VEVENT
END:VCALENDAR