BEGIN:VCALENDAR
VERSION:2.0
PRODID:-//La Bodega de los Reyes - ECPv6.15.17.1//NONSGML v1.0//EN
CALSCALE:GREGORIAN
METHOD:PUBLISH
X-WR-CALNAME:La Bodega de los Reyes
X-ORIGINAL-URL:https://labodegadelosreyes.com
X-WR-CALDESC:Eventos para La Bodega de los Reyes
REFRESH-INTERVAL;VALUE=DURATION:PT1H
X-Robots-Tag:noindex
X-PUBLISHED-TTL:PT1H
BEGIN:VTIMEZONE
TZID:UTC
BEGIN:STANDARD
TZOFFSETFROM:+0000
TZOFFSETTO:+0000
TZNAME:UTC
DTSTART:20250101T000000
END:STANDARD
END:VTIMEZONE
BEGIN:VEVENT
DTSTART;TZID=UTC:20260630T200000
DTEND;TZID=UTC:20260630T220000
DTSTAMP:20260419T165752
CREATED:20260205T153142Z
LAST-MODIFIED:20260205T153142Z
UID:14375-1782849600-1782856800@labodegadelosreyes.com
SUMMARY:La Rioja
DESCRIPTION:[vc_row][vc_column][vc_column_text] \nDesde el martes 30 de junio hasta el sábado 4 de julio\n[/vc_column_text][vc_btn title=»Comprar Sesión de Cata» shape=»square» color=»black» size=»lg» align=»center» i_icon_fontawesome=»fas fa-shopping-cart» button_block=»true» add_icon=»true» link=»url:https%3A%2F%2Flabodegadelosreyes.com%2Fproducto%2Fcata-de-vino-gourmet%2F|title:Cata%20de%20Vino%20Gourmet»][vc_btn title=»Reservar Sesión de Cata» shape=»square» color=»black» size=»lg» align=»center» i_icon_fontawesome=»fas fa-shopping-cart» button_block=»true» add_icon=»true» link=»url:https%3A%2F%2Flabodegadelosreyes.com%2Freserva-catas%2F|title:Cata%20de%20Vino%20Gourmet»][/vc_column][/vc_row][vc_row][vc_column][vc_column_text]Historia\, sabor y tradición en cada copa \nTe invitamos a descubrir una de las Denominaciones de Origen más prestigiosas de España y del mundo: La Rioja. \nUna experiencia pensada para amantes del vino que quieran viajar con los sentidos por sus viñedos\, su cultura y sus aromas inconfundibles. \nDisfrutaremos de una cata guiada de 5 vinos de Rioja\, maridados con 5 pinchos de la zona\, seleccionados para potenciar cada matiz y cada sensación en boca. \nLos vinos serán de diferentes colores\, variedades de uva y formas de elaboración\, convirtiendo la actividad en una experiencia dinámica\, divertida y llena de contrastes. \nTema de la sesión: La Rioja \nHablaremos de su historia\, sus estilos\, sus crianzas y lo que hace únicos a sus vinos. \n¿Qué puedes esperar? \n\nSabores elegantes y combinaciones sorprendentes\nCuriosidades sobre la cultura del vino riojano\nHistorias de bodegas\, viñedos y barricas\nAprender a disfrutar el vino con todos los sentidos\nEl vino siempre como protagonista\n\nDuración: 90 minutos[/vc_column_text][vc_btn title=»Comprar Sesión de Cata» shape=»square» color=»black» size=»lg» align=»center» i_icon_fontawesome=»fas fa-shopping-cart» button_block=»true» add_icon=»true» link=»url:https%3A%2F%2Flabodegadelosreyes.com%2Fproducto%2Fcata-de-vino-gourmet%2F|title:Cata%20de%20Vino%20Gourmet»][vc_btn title=»Reservar Sesión de Cata» shape=»square» color=»black» size=»lg» align=»center» i_icon_fontawesome=»fas fa-shopping-cart» button_block=»true» add_icon=»true» link=»url:https%3A%2F%2Flabodegadelosreyes.com%2Freserva-catas%2F|title:Cata%20de%20Vino%20Gourmet»][/vc_column][/vc_row]
URL:https://labodegadelosreyes.com/evento/la-rioja-5/
LOCATION:La Bodega de los Reyes\, Calle de los Reyes\, 6\, Madrid\, Madrid\, 28015\, España
ATTACH;FMTTYPE=image/jpeg:https://labodegadelosreyes.com/wp-content/uploads/2026/02/Rioja-Sesion-1.jpg
ORGANIZER;CN="La Bodega de los Reyes":MAILTO:info@labodegadelosreyes.com
END:VEVENT
END:VCALENDAR