BEGIN:VCALENDAR
VERSION:2.0
PRODID:-//La Bodega de los Reyes - ECPv6.15.17.1//NONSGML v1.0//EN
CALSCALE:GREGORIAN
METHOD:PUBLISH
X-ORIGINAL-URL:https://labodegadelosreyes.com
X-WR-CALDESC:Eventos para La Bodega de los Reyes
REFRESH-INTERVAL;VALUE=DURATION:PT1H
X-Robots-Tag:noindex
X-PUBLISHED-TTL:PT1H
BEGIN:VTIMEZONE
TZID:UTC
BEGIN:STANDARD
TZOFFSETFROM:+0000
TZOFFSETTO:+0000
TZNAME:UTC
DTSTART:20210101T000000
END:STANDARD
END:VTIMEZONE
BEGIN:VEVENT
DTSTART;TZID=UTC:20221102T200000
DTEND;TZID=UTC:20221102T220000
DTSTAMP:20260425T105000
CREATED:20221026T061850Z
LAST-MODIFIED:20221026T061850Z
UID:6154-1667419200-1667426400@labodegadelosreyes.com
SUMMARY:Las Botellas
DESCRIPTION:[vc_row][vc_column][vc_column_text] \nEl cofre de nuestros tesoros\n5 Vinos + Maridaje \nMiércoles 2 de noviembre – 20.00 horas \nJueves 3 de noviembre – 18.00 horas y 20.00 horas \nViernes 4 de noviembre – 18.00 horas y 20.00 horas \nSábado 5 de noviembre – 13.30 horas\, 18.00 horas y 20.00 horas \n[/vc_column_text][vc_btn title=»Comprar Sesión de Cata» shape=»square» color=»black» size=»lg» align=»center» i_icon_fontawesome=»fas fa-shopping-cart» button_block=»true» add_icon=»true» link=»url:https%3A%2F%2Flabodegadelosreyes.com%2Fproducto%2Fcata-de-vino-gourmet%2F|title:Cata%20de%20Vino%20Gourmet»][/vc_column][/vc_row][vc_row][vc_column][vc_column_text]En este temático abordamos uno de los grandes secretos del mundo del vino. \nLas botellas. \nLa guarda que los vinos realizan en ellas. \nDesde sus orígenes\, su evolución\, sus distintos materiales y formas. \nLos diferentes tipos y colores utilizados\, ¿en realidad influyen ? \nEl tamaño\, ¿grande o pequeño ? \n¿Cómo las guardamos\, dónde y cuánto tiempo? \nTodo esto y mucho más en una sesión de cata comentada compuesta de 5 vinos + 5 pintxos donde aprender\, será una aventura inolvidable[/vc_column_text][vc_btn title=»Comprar Sesión de Cata» shape=»square» color=»black» size=»lg» align=»center» i_icon_fontawesome=»fas fa-shopping-cart» button_block=»true» add_icon=»true» link=»url:https%3A%2F%2Flabodegadelosreyes.com%2Fproducto%2Fcata-de-vino-gourmet%2F|title:Cata%20de%20Vino%20Gourmet»][/vc_column][/vc_row]
URL:https://labodegadelosreyes.com/evento/las-botellas/
LOCATION:La Bodega de los Reyes\, Calle de los Reyes\, 6\, Madrid\, Madrid\, 28015\, España
ATTACH;FMTTYPE=image/png:https://labodegadelosreyes.com/wp-content/uploads/2022/10/Las-botellas-el-cofre-del-tesoro.png
ORGANIZER;CN="La Bodega de los Reyes":MAILTO:info@labodegadelosreyes.com
END:VEVENT
BEGIN:VEVENT
DTSTART;TZID=UTC:20221108T200000
DTEND;TZID=UTC:20221108T220000
DTSTAMP:20260425T105000
CREATED:20221026T061502Z
LAST-MODIFIED:20221026T061502Z
UID:6151-1667937600-1667944800@labodegadelosreyes.com
SUMMARY:La Madera
DESCRIPTION:[vc_row][vc_column][vc_column_text] \nEl roble\, nuestro árbol\n5 Vinos + Maridaje \nMartes 8 de noviembre – 18.00 horas y 20.00 horas \nMiércoles 9 de noviembre – 18.00 horas y 20.00 horas \nJueves 10 de noviembre – 18.00 horas y 20.00 horas \nViernes 11 de noviembre – 18.00 horas y 20.00 horas \nSábado 13 de noviembre – 13.30 horas\, 18.00 horas y 20.00 horas \n[/vc_column_text][vc_btn title=»Comprar Sesión de Cata» shape=»square» color=»black» size=»lg» align=»center» i_icon_fontawesome=»fas fa-shopping-cart» button_block=»true» add_icon=»true» link=»url:https%3A%2F%2Flabodegadelosreyes.com%2Fproducto%2Fcata-de-vino-gourmet%2F|title:Cata%20de%20Vino%20Gourmet»][/vc_column][/vc_row][vc_row][vc_column][vc_column_text]Las barricas\, el arte de envejecer nuestros vinos. \nGracias a su porosidad\, a sus materiales\, a sus hechuras\, las connotaciones de nuestras crianzas evolucionarán\, ganado en prestigio\, elegancia y calidad. \nConoceremos el roble\, máximo responsable de aportar texturas y aromas diferentes a los vinos siendo el orígen de estos toneles. \nVisitaremos a los maestros tonaleros mientras elaboran de forma artesana\, las cunas de nuestros vinos. \nSabremos cuánto cuestan\, sabremos cuánto duran\, cómo se colocan\, qué aportan… \nEn resumen\, conoceremos las características de nuestros vinos dentro de estas barricas.[/vc_column_text][vc_btn title=»Comprar Sesión de Cata» shape=»square» color=»black» size=»lg» align=»center» i_icon_fontawesome=»fas fa-shopping-cart» button_block=»true» add_icon=»true» link=»url:https%3A%2F%2Flabodegadelosreyes.com%2Fproducto%2Fcata-de-vino-gourmet%2F|title:Cata%20de%20Vino%20Gourmet»][/vc_column][/vc_row]
URL:https://labodegadelosreyes.com/evento/la-madera-2/
LOCATION:La Bodega de los Reyes\, Calle de los Reyes\, 6\, Madrid\, Madrid\, 28015\, España
ATTACH;FMTTYPE=image/png:https://labodegadelosreyes.com/wp-content/uploads/2022/10/La-Madera.png
ORGANIZER;CN="La Bodega de los Reyes":MAILTO:info@labodegadelosreyes.com
END:VEVENT
BEGIN:VEVENT
DTSTART;TZID=UTC:20221116T200000
DTEND;TZID=UTC:20221116T220000
DTSTAMP:20260425T105000
CREATED:20221026T062342Z
LAST-MODIFIED:20221026T062342Z
UID:6157-1668628800-1668636000@labodegadelosreyes.com
SUMMARY:Vermut y vino
DESCRIPTION:[vc_row][vc_column][vc_column_text] \nCata de vermut y vino\n3 Vermut + 2 Vinos españoles + Maridaje de mercado \nMiércoles 16 de noviembre – 20.00 horas \nJueves 17 de noviembre – 18.00 horas y 20.00 horas \nViernes 18 de noviembre – 18.00 horas y 20.00 horas \nSábado 19 de noviembre – 13.30 horas\, 18.00 horas y 20.00 horas \n[/vc_column_text][vc_btn title=»Comprar Sesión de Cata» shape=»square» color=»black» size=»lg» align=»center» i_icon_fontawesome=»fas fa-shopping-cart» button_block=»true» add_icon=»true» link=»url:https%3A%2F%2Flabodegadelosreyes.com%2Fproducto%2Fcata-de-vino-gourmet%2F|title:Cata%20de%20Vino%20Gourmet»][/vc_column][/vc_row][vc_row][vc_column][vc_column_text]Llega el momento del vermut!!! \nDe quedar con los amigos\, de abrir el apetito \nLlega el momento de descubrir nuevas formas de tomarlo\, de conocer su origen\, de caminar por su historia \nLlega el momento de sentir su dulce amargor y de acompañarlos con fantásticos maridajes \nVinos macerados y vinos sin macerar\, maridados para potenciar su estructura con 5 pinchos diferentes\, a fin de cuentas\, viviremos el vino de forma diferente de nuevo en @labodegadelosreyes.[/vc_column_text][vc_btn title=»Comprar Sesión de Cata» shape=»square» color=»black» size=»lg» align=»center» i_icon_fontawesome=»fas fa-shopping-cart» button_block=»true» add_icon=»true» link=»url:https%3A%2F%2Flabodegadelosreyes.com%2Fproducto%2Fcata-de-vino-gourmet%2F|title:Cata%20de%20Vino%20Gourmet»][/vc_column][/vc_row]
URL:https://labodegadelosreyes.com/evento/vermut-y-vino-3/
LOCATION:La Bodega de los Reyes\, Calle de los Reyes\, 6\, Madrid\, Madrid\, 28015\, España
ATTACH;FMTTYPE=image/png:https://labodegadelosreyes.com/wp-content/uploads/2022/10/Vermut.png
ORGANIZER;CN="La Bodega de los Reyes":MAILTO:info@labodegadelosreyes.com
END:VEVENT
BEGIN:VEVENT
DTSTART;TZID=UTC:20221123T200000
DTEND;TZID=UTC:20221123T220000
DTSTAMP:20260425T105000
CREATED:20221026T061005Z
LAST-MODIFIED:20221026T061005Z
UID:6148-1669233600-1669240800@labodegadelosreyes.com
SUMMARY:Ibéricos y Tintos
DESCRIPTION:[vc_row][vc_column][vc_column_text] \nIbéricos y Tintos\n5 Vinos + 5 Pinchos \nMiércoles 23 de noviembre – 20.00 horas \nJueves 24 de noviembre – 18.00 horas y 20 horas \nViernes 25 de noviembre – 18.00 horas y 20.00 horas \nSábado 26 de noviembre – 18.00 horas y 20.00 horas \n[/vc_column_text][vc_btn title=»Comprar Sesión de Cata» shape=»square» color=»black» size=»lg» align=»center» i_icon_fontawesome=»fas fa-shopping-cart» button_block=»true» add_icon=»true» link=»url:https%3A%2F%2Flabodegadelosreyes.com%2Fproducto%2Fcata-de-vino-gourmet%2F|title:Cata%20de%20Vino%20Gourmet»][/vc_column][/vc_row][vc_row][vc_column][vc_column_text]Hermanos casi de sangre. \nAmigos inseparables. \nUna relación que sin duda da envidia. \nPerfectos anfitriones de miles de veladas. \nInmejorables embajadores de nuestro país. \nUnidos desde siempre y para siempre. \nLos tintos y los ibéricos son\, lo que son. \nNos hacen salivar antes de catarlos\, nos hacen valorar el trabajo bien hecho\, son el premio que nos aguarda a muchos\, tras la dura jornada. \nCómo no iban a tener su día especial en nuestra casa?? \nQué digo uno\, VARIOS\, miércoles\, jueves\, viernes y sábado\, y nos quedamos cortos!! \nUna sesión de cata\, pffff\, donde claro… sobran las palabras. \nPoco vamos a decir y mucho vamos a catar y a degustar!![/vc_column_text][vc_btn title=»Comprar Sesión de Cata» shape=»square» color=»black» size=»lg» align=»center» i_icon_fontawesome=»fas fa-shopping-cart» button_block=»true» add_icon=»true» link=»url:https%3A%2F%2Flabodegadelosreyes.com%2Fproducto%2Fcata-de-vino-gourmet%2F|title:Cata%20de%20Vino%20Gourmet»][/vc_column][/vc_row]
URL:https://labodegadelosreyes.com/evento/ibericos-y-tintos-2/
LOCATION:La Bodega de los Reyes\, Calle de los Reyes\, 6\, Madrid\, Madrid\, 28015\, España
ATTACH;FMTTYPE=image/png:https://labodegadelosreyes.com/wp-content/uploads/2022/10/Sesion-de-Ibericos.png
ORGANIZER;CN="La Bodega de los Reyes":MAILTO:info@labodegadelosreyes.com
END:VEVENT
BEGIN:VEVENT
DTSTART;TZID=UTC:20221129T200000
DTEND;TZID=UTC:20221129T220000
DTSTAMP:20260425T105000
CREATED:20221129T114315Z
LAST-MODIFIED:20221129T114315Z
UID:6901-1669752000-1669759200@labodegadelosreyes.com
SUMMARY:RIBERA DEL DUERO
DESCRIPTION:[vc_row][vc_column][vc_column_text] \nRibera del Duero\n5 Vinos Ribereños + Tapeo de la zona \nMartes 29 de noviembre – 20.00 horas \nMiércoles 30 de noviembre – 20.00 horas \nJueves 1 de diciembre – 18.00 horas y 20.00 horas \nViernes 2 de diciembre – 18.00 horas y 20.00 horas \nSábado 3 de diciembre – 13.30 horas\, 18.00 horas y 20.00 horas \n[/vc_column_text][vc_btn title=»Comprar Sesión de Cata» shape=»square» color=»black» size=»lg» align=»center» i_icon_fontawesome=»fas fa-shopping-cart» button_block=»true» add_icon=»true» link=»url:https%3A%2F%2Flabodegadelosreyes.com%2Fproducto%2Fcata-de-vino-gourmet%2F|title:Cata%20de%20Vino%20Gourmet»][/vc_column][/vc_row][vc_row][vc_column][vc_column_text]Semana de la Ribera del Duero en Madrid! \nSí\, como lo oyes\, nos vamos a una de las zonas geográficas más importantes de nuestra geografía\, una de las cunas del vino español por excelencia\, nos vamos como siempre\, desde nuestra sala de catas y con nuestra maleta de la imaginación. \nVamos a descubrir de nuevo\, sus ricos productos\, el alma que esconden sus elaboraciones\, los aromas y colores de una tierra con tradición milenaria en el maravilloso mundo de la elaboración de vino. \nQueremos presumir de encanto\, de misterio\, de secretos y sobre todo de calidad. \nSus cepas más antiguas\, compartirán su sabiduría y las más jóvenes\, harán lo mismo con su explosión de fruta y aroma. \nNo te puedes perder\, uno de los temáticos más increíbles del año en nuestra sala de catas.[/vc_column_text][vc_btn title=»Comprar Sesión de Cata» shape=»square» color=»black» size=»lg» align=»center» i_icon_fontawesome=»fas fa-shopping-cart» button_block=»true» add_icon=»true» link=»url:https%3A%2F%2Flabodegadelosreyes.com%2Fproducto%2Fcata-de-vino-gourmet%2F|title:Cata%20de%20Vino%20Gourmet»][/vc_column][/vc_row]
URL:https://labodegadelosreyes.com/evento/ribera-del-duero-2/
LOCATION:La Bodega de los Reyes\, Calle de los Reyes\, 6\, Madrid\, Madrid\, 28015\, España
ATTACH;FMTTYPE=image/png:https://labodegadelosreyes.com/wp-content/uploads/2022/11/sesion-ribera-del-duero.png
ORGANIZER;CN="La Bodega de los Reyes":MAILTO:info@labodegadelosreyes.com
END:VEVENT
END:VCALENDAR