BEGIN:VCALENDAR
VERSION:2.0
PRODID:-//La Bodega de los Reyes - ECPv6.15.17.1//NONSGML v1.0//EN
CALSCALE:GREGORIAN
METHOD:PUBLISH
X-WR-CALNAME:La Bodega de los Reyes
X-ORIGINAL-URL:https://labodegadelosreyes.com
X-WR-CALDESC:Eventos para La Bodega de los Reyes
REFRESH-INTERVAL;VALUE=DURATION:PT1H
X-Robots-Tag:noindex
X-PUBLISHED-TTL:PT1H
BEGIN:VTIMEZONE
TZID:UTC
BEGIN:STANDARD
TZOFFSETFROM:+0000
TZOFFSETTO:+0000
TZNAME:UTC
DTSTART:20220101T000000
END:STANDARD
END:VTIMEZONE
BEGIN:VEVENT
DTSTART;TZID=UTC:20230111T200000
DTEND;TZID=UTC:20230111T220000
DTSTAMP:20260421T151029
CREATED:20221220T062358Z
LAST-MODIFIED:20221220T123233Z
UID:7044-1673467200-1673474400@labodegadelosreyes.com
SUMMARY:¿Cuánto Vale un Vino?
DESCRIPTION:[vc_row][vc_column][vc_column_text] \n5 Vinos + 5 PINCHOS \nMiércoles 11 de enero – 20.00 horas \nJueves 12 de enero – 20.00 horas \nViernes 13 de enero – 18.00 horas y 20.00 horas \nSábado 14 de enero – 13.30 horas\, 18.00 horas y 20.00 horas \n[/vc_column_text][vc_btn title=»Comprar Sesión de Cata» shape=»square» color=»black» size=»lg» align=»center» i_icon_fontawesome=»fas fa-shopping-cart» button_block=»true» add_icon=»true» link=»url:https%3A%2F%2Flabodegadelosreyes.com%2Fproducto%2Fcata-de-vino-gourmet%2F|title:Cata%20de%20Vino%20Gourmet»][/vc_column][/vc_row][vc_row][vc_column][vc_column_text]¿Por qué unos valen más que otros?. \n¿Qué los diferencia?. \n¿Dónde encontramos el precio justo?. \n¿Cuánto estás dispuesto a gastar en un vino?. \nEstas y otras muchas cuestiones\, las resolveremos sin duda en nuestro temático de la semana ¿cuánto cuesta un vino?. \nDisfrutaremos de una selección de 5 vinos y 5 pinchos por sólo 25 € en un ambiente único y mágico.[/vc_column_text][vc_btn title=»Comprar Sesión de Cata» shape=»square» color=»black» size=»lg» align=»center» i_icon_fontawesome=»fas fa-shopping-cart» button_block=»true» add_icon=»true» link=»url:https%3A%2F%2Flabodegadelosreyes.com%2Fproducto%2Fcata-de-vino-gourmet%2F|title:Cata%20de%20Vino%20Gourmet»][/vc_column][/vc_row]
URL:https://labodegadelosreyes.com/evento/edad-del-vinedo/
LOCATION:La Bodega de los Reyes\, Calle de los Reyes\, 6\, Madrid\, Madrid\, 28015\, España
ATTACH;FMTTYPE=image/png:https://labodegadelosreyes.com/wp-content/uploads/2022/12/cuanto-vale-un-vino.png
ORGANIZER;CN="La Bodega de los Reyes":MAILTO:info@labodegadelosreyes.com
END:VEVENT
BEGIN:VEVENT
DTSTART;TZID=UTC:20230118T200000
DTEND;TZID=UTC:20230118T220000
DTSTAMP:20260421T151029
CREATED:20221220T062812Z
LAST-MODIFIED:20230113T102503Z
UID:7047-1674072000-1674079200@labodegadelosreyes.com
SUMMARY:Ciclo de la Vid
DESCRIPTION:[vc_row][vc_column][vc_column_text] \n5 vinos + 5 pinchos \nMiércoles 18 de enero – 20.00 horas \nJueves 19 de enero – 20.00 horas \nViernes 20 de enero – 18.00 horas y 20.00 horas \nSábado 21 de enero – 13.30 horas\, 18.00 horas y 20.00 horas \n[/vc_column_text][vc_btn title=»Comprar Sesión de Cata» shape=»square» color=»black» size=»lg» align=»center» i_icon_fontawesome=»fas fa-shopping-cart» button_block=»true» add_icon=»true» link=»url:https%3A%2F%2Flabodegadelosreyes.com%2Fproducto%2Fcata-de-vino-gourmet%2F|title:Cata%20de%20Vino%20Gourmet»][/vc_column][/vc_row][vc_row][vc_column][vc_column_text]El ciclo de la vida de nuestros viñedos\, se abre paso esta semana en nuestra sala de catas. \nUna sesión llena de historias\, de secretos y de pasión. \nUn temático que nos deja conocer como la tierra\, la naturaleza\, y la paciencia\, son el punto de partida para nuestros buenos vinos españoles. \nDisfrutaremos de una selección de 5 vinos y 5 pinchos por sólo 25 € en un ambiente único y mágico. \nVen a interactuar con nosotros\, a viajar entre viñedos\, botellas y bodegas de España\, sin salir de nuestra sala de catas.[/vc_column_text][vc_btn title=»Comprar Sesión de Cata» shape=»square» color=»black» size=»lg» align=»center» i_icon_fontawesome=»fas fa-shopping-cart» button_block=»true» add_icon=»true» link=»url:https%3A%2F%2Flabodegadelosreyes.com%2Fproducto%2Fcata-de-vino-gourmet%2F|title:Cata%20de%20Vino%20Gourmet»][/vc_column][/vc_row]
URL:https://labodegadelosreyes.com/evento/ciclo-de-la-vid-2/
LOCATION:La Bodega de los Reyes\, Calle de los Reyes\, 6\, Madrid\, Madrid\, 28015\, España
ATTACH;FMTTYPE=image/png:https://labodegadelosreyes.com/wp-content/uploads/2022/12/el-ciclo-de-la-vid-erasmus.png
ORGANIZER;CN="La Bodega de los Reyes":MAILTO:info@labodegadelosreyes.com
END:VEVENT
BEGIN:VEVENT
DTSTART;TZID=UTC:20230125T200000
DTEND;TZID=UTC:20230125T220000
DTSTAMP:20260421T151029
CREATED:20221220T063136Z
LAST-MODIFIED:20221220T063136Z
UID:7050-1674676800-1674684000@labodegadelosreyes.com
SUMMARY:La Edad del Viñedo
DESCRIPTION:[vc_row][vc_column][vc_column_text] \n5 vinos + 5 pinchos \nMiércoles 25 de enero – 20.00 horas \nJueves 26 de enero – 20.00 horas \nViernes 27 de enero – 18.00 horas y 20.00 horas \nSábado 28 de enero – 13.30 horas\, 18.00 horas y 20.00 horas \n[/vc_column_text][vc_btn title=»Comprar Sesión de Cata» shape=»square» color=»black» size=»lg» align=»center» i_icon_fontawesome=»fas fa-shopping-cart» button_block=»true» add_icon=»true» link=»url:https%3A%2F%2Flabodegadelosreyes.com%2Fproducto%2Fcata-de-vino-gourmet%2F|title:Cata%20de%20Vino%20Gourmet»][/vc_column][/vc_row][vc_row][vc_column][vc_column_text]Los viñedos\, igual que nosotros\, van cumpliendo años y cambiando su aspecto\, características\, rendimiento y calidad. \nQueremos caminar juntos a través del tiempo\, observando\, comentando y catando\, la edad de los viñedos españoles. \nEsta semana\, en todas nuestras sesiones\, 5 grandes Bodegas nos brindarán 5 de sus enormes vinos para que valoremos y comparemos los resultados del paso de este tiempo en el campo. \nUna ocasión única donde degustaremos diferentes variedades\, elaboraciones y zonas geográficas y que como siempre\, acompañaremos con productos regionales con los que maridar nuestra sesión. \nDisfrutaremos de una selección de 5 vinos y 5 pinchos por sólo 25 € en un ambiente único y mágico. \nVen a interactuar con nosotros\, a viajar entre viñedos\, botellas y bodegas de España\, sin salir de nuestra sala de catas. \nElige la sesión de cata que mejor encaje en tu agenda y ven a vivir el Mundo del Vino de forma diferente\, con La Bodega de los Reyes.[/vc_column_text][vc_btn title=»Comprar Sesión de Cata» shape=»square» color=»black» size=»lg» align=»center» i_icon_fontawesome=»fas fa-shopping-cart» button_block=»true» add_icon=»true» link=»url:https%3A%2F%2Flabodegadelosreyes.com%2Fproducto%2Fcata-de-vino-gourmet%2F|title:Cata%20de%20Vino%20Gourmet»][/vc_column][/vc_row]
URL:https://labodegadelosreyes.com/evento/la-edad-del-vinedo/
LOCATION:La Bodega de los Reyes\, Calle de los Reyes\, 6\, Madrid\, Madrid\, 28015\, España
ATTACH;FMTTYPE=image/png:https://labodegadelosreyes.com/wp-content/uploads/2022/12/la-edad-del-vinedo.png
ORGANIZER;CN="La Bodega de los Reyes":MAILTO:info@labodegadelosreyes.com
END:VEVENT
END:VCALENDAR