BEGIN:VCALENDAR
VERSION:2.0
PRODID:-//La Bodega de los Reyes - ECPv6.15.17.1//NONSGML v1.0//EN
CALSCALE:GREGORIAN
METHOD:PUBLISH
X-WR-CALNAME:La Bodega de los Reyes
X-ORIGINAL-URL:https://labodegadelosreyes.com
X-WR-CALDESC:Eventos para La Bodega de los Reyes
REFRESH-INTERVAL;VALUE=DURATION:PT1H
X-Robots-Tag:noindex
X-PUBLISHED-TTL:PT1H
BEGIN:VTIMEZONE
TZID:UTC
BEGIN:STANDARD
TZOFFSETFROM:+0000
TZOFFSETTO:+0000
TZNAME:UTC
DTSTART:20220101T000000
END:STANDARD
END:VTIMEZONE
BEGIN:VEVENT
DTSTART;TZID=UTC:20230201T200000
DTEND;TZID=UTC:20230201T220000
DTSTAMP:20260421T132758
CREATED:20221221T061114Z
LAST-MODIFIED:20221221T061114Z
UID:7069-1675281600-1675288800@labodegadelosreyes.com
SUMMARY:El Nombre de las Uvas
DESCRIPTION:[vc_row][vc_column][vc_column_text] \n5 vinos + 5 pinchos \nMiércoles 1 de febrero – 20.00 horas \nJueves 2 de febrero – 20.00 horas \nViernes 3 de febrero – 18.00 horas y 20.00 horas \nSábado 4 de febrero – 13.30 horas\, 18.00 horas y 20.00 horas \n[/vc_column_text][vc_btn title=»Comprar Sesión de Cata» shape=»square» color=»black» size=»lg» align=»center» i_icon_fontawesome=»fas fa-shopping-cart» button_block=»true» add_icon=»true» link=»url:https%3A%2F%2Flabodegadelosreyes.com%2Fproducto%2Fcata-de-vino-gourmet%2F|title:Cata%20de%20Vino%20Gourmet»][/vc_column][/vc_row][vc_row][vc_column][vc_column_text]Muchas historias comienzan por un nombre\, y en esta ocasión\, muchas de las historias que os vamos a contar\, empiezan por dar nombre a algunas de las variedades de uva más famosas de nuestro País. \nOrígenes\, procedencias\, mitos\, leyendas… \nColores\, aromas\, texturas… \nAl igual que ni mucho menos\, todos los nombres esconden personas iguales\, en el caso de nuestras uvas\, éstos\, no ocultan idénticas características. \nEsto es lo que queremos descubrirte. \nDurante este fin de semana\, las uvas\, vuelven a protagonizar nuestro temático. \nEste fin de semana\, volveremos a hablar de vino. \nVen a interactuar con nosotros\, a viajar entre viñedos\, botellas y bodegas de España\, sin salir de nuestra sala de catas.[/vc_column_text][vc_btn title=»Comprar Sesión de Cata» shape=»square» color=»black» size=»lg» align=»center» i_icon_fontawesome=»fas fa-shopping-cart» button_block=»true» add_icon=»true» link=»url:https%3A%2F%2Flabodegadelosreyes.com%2Fproducto%2Fcata-de-vino-gourmet%2F|title:Cata%20de%20Vino%20Gourmet»][/vc_column][/vc_row]
URL:https://labodegadelosreyes.com/evento/el-nombre-de-las-uvas-2/
LOCATION:La Bodega de los Reyes\, Calle de los Reyes\, 6\, Madrid\, Madrid\, 28015\, España
ATTACH;FMTTYPE=image/png:https://labodegadelosreyes.com/wp-content/uploads/2022/12/El-nombre-de-las-uvas.png
ORGANIZER;CN="La Bodega de los Reyes":MAILTO:info@labodegadelosreyes.com
END:VEVENT
BEGIN:VEVENT
DTSTART;TZID=UTC:20230208T200000
DTEND;TZID=UTC:20230208T220000
DTSTAMP:20260421T132758
CREATED:20221221T061610Z
LAST-MODIFIED:20221221T183805Z
UID:7072-1675886400-1675893600@labodegadelosreyes.com
SUMMARY:Sesión Especial San Valentín
DESCRIPTION:[vc_row][vc_column][vc_column_text] \nInsinuante sesión de cata de vino amorosamente maridada\n5 vinos + 5 pichos \nMiércoles 8 de febrero – 20.00 horas \nJueves 9 de febrero – 20.00 horas \nViernes 10 de febrero – 18.00 horas y 20.00 horas \nSábado 11 de febrero – 13.30 horas\, 18.00 horas y 20.00 horas \n[/vc_column_text][vc_btn title=»Comprar Sesión de Cata» shape=»square» color=»black» size=»lg» align=»center» i_icon_fontawesome=»fas fa-shopping-cart» button_block=»true» add_icon=»true» link=»url:https%3A%2F%2Flabodegadelosreyes.com%2Fproducto%2Fcata-de-vino-gourmet%2F|title:Cata%20de%20Vino%20Gourmet»][/vc_column][/vc_row][vc_row][vc_column][vc_column_text]¿Sin plan para San Valentín?. \nQuizá eres de los que no lo celebran pero aún así… oye\, que… como todo el mundo hace algo… por no ser menos este fin de semana… no sé… hacer algo diferente… \nPues claro !!! Quizá por San Valentín \, quizá por ese día de los enamorados o tal vez sólo porque te apetece\, nosotros hemos preparado una velada totalmente diferente a las que hayas podido imaginar para ese día !!! \nVinos blancos seductores\, rosados insinuantes y excitantes tintos serán los provocadores de tu yo escondido ese día. \n¿Quieres vivir la pasión en estado puro? \nElige la sesión de cata que mejor encaje en tu agenda y ven a vivir el Mundo del Vino de forma diferente\, con La Bodega de los Reyes[/vc_column_text][vc_btn title=»Comprar Sesión de Cata» shape=»square» color=»black» size=»lg» align=»center» i_icon_fontawesome=»fas fa-shopping-cart» button_block=»true» add_icon=»true» link=»url:https%3A%2F%2Flabodegadelosreyes.com%2Fproducto%2Fcata-de-vino-gourmet%2F|title:Cata%20de%20Vino%20Gourmet»][/vc_column][/vc_row]
URL:https://labodegadelosreyes.com/evento/sesion-especial-san-valentin/
LOCATION:La Bodega de los Reyes\, Calle de los Reyes\, 6\, Madrid\, Madrid\, 28015\, España
ATTACH;FMTTYPE=image/png:https://labodegadelosreyes.com/wp-content/uploads/2022/12/san-valentin-sesion.png
ORGANIZER;CN="La Bodega de los Reyes":MAILTO:info@labodegadelosreyes.com
END:VEVENT
BEGIN:VEVENT
DTSTART;TZID=UTC:20230215T200000
DTEND;TZID=UTC:20230215T220000
DTSTAMP:20260421T132758
CREATED:20221221T061839Z
LAST-MODIFIED:20221221T062441Z
UID:7075-1676491200-1676498400@labodegadelosreyes.com
SUMMARY:La Poda
DESCRIPTION:[vc_row][vc_column][vc_column_text] \n5 vinos + 5 pinchos \nMiércoles 15 de febrero – 20.00 horas \nJueves 16 de febrero – 20.00 horas \nViernes 17 de febrero – 18.00 horas y 20.00 horas \nSábado 18 de febrero – 18.00 horas y 20.00 horas \n[/vc_column_text][vc_btn title=»Comprar Sesión de Cata» shape=»square» color=»black» size=»lg» align=»center» i_icon_fontawesome=»fas fa-shopping-cart» button_block=»true» add_icon=»true» link=»url:https%3A%2F%2Flabodegadelosreyes.com%2Fproducto%2Fcata-de-vino-gourmet%2F|title:Cata%20de%20Vino%20Gourmet»][/vc_column][/vc_row][vc_row][vc_column][vc_column_text]Ser previsor\, preparar tu trabajo\, ir por delante de los contratiempos\, querer lo mejor para tu viña\, saber lo que quieres de tu tierra \, definir los parámetros que darán calidad a tu cosecha… que es podar??? \nPodar es\, entre otras muchas cosas\, ésto y mucho más!!! \nHablemos sin recortar palabras\, disfrutemos sin escatimar sonrisas\, dejemos sólo lo mejor y vivamos con el resultado.[/vc_column_text][vc_btn title=»Comprar Sesión de Cata» shape=»square» color=»black» size=»lg» align=»center» i_icon_fontawesome=»fas fa-shopping-cart» button_block=»true» add_icon=»true» link=»url:https%3A%2F%2Flabodegadelosreyes.com%2Fproducto%2Fcata-de-vino-gourmet%2F|title:Cata%20de%20Vino%20Gourmet»][/vc_column][/vc_row]
URL:https://labodegadelosreyes.com/evento/la-poda-2/
LOCATION:La Bodega de los Reyes\, Calle de los Reyes\, 6\, Madrid\, Madrid\, 28015\, España
ATTACH;FMTTYPE=image/png:https://labodegadelosreyes.com/wp-content/uploads/2022/12/La-poda-sesion.png
ORGANIZER;CN="La Bodega de los Reyes":MAILTO:info@labodegadelosreyes.com
END:VEVENT
BEGIN:VEVENT
DTSTART;TZID=UTC:20230222T200000
DTEND;TZID=UTC:20230222T220000
DTSTAMP:20260421T132758
CREATED:20221221T062135Z
LAST-MODIFIED:20221221T062559Z
UID:7078-1677096000-1677103200@labodegadelosreyes.com
SUMMARY:Carnaval 23
DESCRIPTION:[vc_row][vc_column][vc_column_text] \nDesenmascara tu lado más oculto\n5 vinos + 5 pinchos \nMiércoles 22 de febrero – 20.00 horas \nJueves 23 de febrero – 20.00 horas \nViernes 24 de febrero – 18.00 horas y 20.00 horas \nSábado 25 de febrero – 18.00 horas y 20.00 horas \n[/vc_column_text][vc_btn title=»Comprar Sesión de Cata» shape=»square» color=»black» size=»lg» align=»center» i_icon_fontawesome=»fas fa-shopping-cart» button_block=»true» add_icon=»true» link=»url:https%3A%2F%2Flabodegadelosreyes.com%2Fproducto%2Fcata-de-vino-gourmet%2F|title:Cata%20de%20Vino%20Gourmet»][/vc_column][/vc_row][vc_row][vc_column][vc_column_text]Carnaval\, carnaval!!! \nLlegó el carnaval y lo vamos a vivir este fin de semana de una forma muy diferente!!! \nUna selección de vinos especiales\, que provocarán sensaciones inesperadas\, únicas y deliciosas\, al unirlos con pequeños maridajes que aumentarán sus aromas y texturas. \nDescubriremos cuáles son los verdaderos rostros de nuestros vinos\, sus variedades escondidas\, sus disimuladas crianzas\, adivinaremos sus especiales características\, gracias a conocer de dónde proceden\, cómo se han elaborado o quiénes están detrás de ellos. \nAtrévete a vivir un carnaval de verdad\, desnuda tus placeres y disfruta de la vida\, tal y como viene. \nEste fin de semana\, volveremos a hablar de vino.[/vc_column_text][vc_btn title=»Comprar Sesión de Cata» shape=»square» color=»black» size=»lg» align=»center» i_icon_fontawesome=»fas fa-shopping-cart» button_block=»true» add_icon=»true» link=»url:https%3A%2F%2Flabodegadelosreyes.com%2Fproducto%2Fcata-de-vino-gourmet%2F|title:Cata%20de%20Vino%20Gourmet»][/vc_column][/vc_row]
URL:https://labodegadelosreyes.com/evento/carnaval-23/
LOCATION:La Bodega de los Reyes\, Calle de los Reyes\, 6\, Madrid\, Madrid\, 28015\, España
ATTACH;FMTTYPE=image/png:https://labodegadelosreyes.com/wp-content/uploads/2022/12/carnaval-sesion-cata-ciega.png
ORGANIZER;CN="La Bodega de los Reyes":MAILTO:info@labodegadelosreyes.com
END:VEVENT
END:VCALENDAR